BEGIN:VCALENDAR
VERSION:2.0
PRODID:-//葛飾区立中之台小学校PTA - ECPv6.8.1//NONSGML v1.0//EN
CALSCALE:GREGORIAN
METHOD:PUBLISH
X-WR-CALNAME:葛飾区立中之台小学校PTA
X-ORIGINAL-URL:https://nakanodaipta.com
X-WR-CALDESC:葛飾区立中之台小学校PTA のイベント
REFRESH-INTERVAL;VALUE=DURATION:PT1H
X-Robots-Tag:noindex
X-PUBLISHED-TTL:PT1H
BEGIN:VTIMEZONE
TZID:Asia/Tokyo
BEGIN:STANDARD
TZOFFSETFROM:+0900
TZOFFSETTO:+0900
TZNAME:JST
DTSTART:20240101T000000
END:STANDARD
END:VTIMEZONE
BEGIN:VEVENT
DTSTART;TZID=Asia/Tokyo:20241020T080000
DTEND;TZID=Asia/Tokyo:20241020T170000
DTSTAMP:20260422T192044
CREATED:20240920T004212Z
LAST-MODIFIED:20240920T004212Z
UID:510-1729411200-1729443600@nakanodaipta.com
SUMMARY:亀有まつり
DESCRIPTION:※詳細情報が出ましたら更新します。
URL:https://nakanodaipta.com/event/kameari/
LOCATION:東京都
ATTACH;FMTTYPE=image/jpeg:https://nakanodaipta.com/wp-content/uploads/2024/09/diver　OGP設定-11.jpg
END:VEVENT
END:VCALENDAR